BEGIN:VCALENDAR
VERSION:2.0
PRODID:-//Biofield Tuning - ECPv6.15.20//NONSGML v1.0//EN
CALSCALE:GREGORIAN
METHOD:PUBLISH
X-ORIGINAL-URL:https://www.biofieldtuningtn.com
X-WR-CALDESC:Events for Biofield Tuning
REFRESH-INTERVAL;VALUE=DURATION:PT1H
X-Robots-Tag:noindex
X-PUBLISHED-TTL:PT1H
BEGIN:VTIMEZONE
TZID:America/Chicago
BEGIN:DAYLIGHT
TZOFFSETFROM:-0600
TZOFFSETTO:-0500
TZNAME:CDT
DTSTART:20240310T080000
END:DAYLIGHT
BEGIN:STANDARD
TZOFFSETFROM:-0500
TZOFFSETTO:-0600
TZNAME:CST
DTSTART:20241103T070000
END:STANDARD
BEGIN:DAYLIGHT
TZOFFSETFROM:-0600
TZOFFSETTO:-0500
TZNAME:CDT
DTSTART:20250309T080000
END:DAYLIGHT
BEGIN:STANDARD
TZOFFSETFROM:-0500
TZOFFSETTO:-0600
TZNAME:CST
DTSTART:20251102T070000
END:STANDARD
BEGIN:DAYLIGHT
TZOFFSETFROM:-0600
TZOFFSETTO:-0500
TZNAME:CDT
DTSTART:20260308T080000
END:DAYLIGHT
BEGIN:STANDARD
TZOFFSETFROM:-0500
TZOFFSETTO:-0600
TZNAME:CST
DTSTART:20261101T070000
END:STANDARD
END:VTIMEZONE
BEGIN:VEVENT
DTSTART;TZID=America/Chicago:20250901T183000
DTEND;TZID=America/Chicago:20250901T203000
DTSTAMP:20260425T111719
CREATED:20250803T105442Z
LAST-MODIFIED:20250803T105442Z
UID:1877-1756751400-1756758600@www.biofieldtuningtn.com
SUMMARY:Reiki Share
DESCRIPTION:Come learn the basics of giving and receiving Reiki.\nWe’ll start with a sound meditation and then learn about energy healing and chakra balancing through Reiki\, the Universal Life Force Energy. You will experience both giving & receiving Reiki in this fun\, relaxed Reiki Share. \nWe will learn to: \n• Feel the human energy field\n• Diagnose & balance the chakras\n• Access & use Reiki energy to heal \nAll are welcome from experienced practitioners to those new to Reiki and energy healing. \nCome meet new friends or bring one with you! \nDonation basis \nPlease call or text 615.474.3678 to confirm your spot!
URL:https://www.biofieldtuningtn.com/event/reiki-share-100/
LOCATION:Franklin Reiki & Sound Healing\, 413 N Cardinal Ct\, Franklin\, TN\, 37067\, United States
CATEGORIES:Reiki
ATTACH;FMTTYPE=image/jpeg:https://www.biofieldtuningtn.com/wp-content/uploads/2021/03/Reiki-hand.jpg
ORGANIZER;CN="Robin Barnes":MAILTO:robinbarnes2@gmail.com
END:VEVENT
BEGIN:VEVENT
DTSTART;TZID=America/Chicago:20250906T173000
DTEND;TZID=America/Chicago:20250906T183000
DTSTAMP:20260425T111719
CREATED:20250905T193152Z
LAST-MODIFIED:20250905T193152Z
UID:1889-1757179800-1757183400@www.biofieldtuningtn.com
SUMMARY:Sound Immersion @Cosmic Connections
DESCRIPTION:Escape the noise of daily life and immerse yourself in a transformative sound bath with Robin Barnes. Through a unique blend of sound therapy and vibrational energy\, you’ll be enveloped in sustained waves of frequencies that help restore balance and harmony within. Using sacred instruments such as singing bowls\, frame drums\, native flutes\, gongs\, and vocal over-toning\, Robin creates an immersive soundscape designed to guide you into a deep meditative state. As these powerful vibrations resonate through your body at a cellular level\, they help release stagnant emotional tension\, boost your immune system\, and awaken a deeper connection to your intuition. \nAllow yourself to be bathed in sound\, to reset\, recharge\, and realign—mind\, body\, and spirit. \nRobin will be joined by Reiki practitioner Lauren DeYoe who will deliver Reiki energy during the sound bath for additional energy balancing & relaxation. \nPlease wear comfortable clothing and bring a yoga mat and whatever else you might need for your comfort.\nTickets $39.00 \nReserve your spot HERE!
URL:https://www.biofieldtuningtn.com/event/sound-immersion-cosmic-connections-3/
LOCATION:Cosmic Connections\, 2117 8th Ave S\, Nashville\, TN\, 37204\, United States
CATEGORIES:Sound Immersions
ATTACH;FMTTYPE=image/jpeg:https://www.biofieldtuningtn.com/wp-content/uploads/2025/02/29-803A5808-Edit-1000x830-1.jpg
ORGANIZER;CN="Robin Barnes":MAILTO:robinbarnes2@gmail.com
END:VEVENT
BEGIN:VEVENT
DTSTART;TZID=America/Chicago:20250908T183000
DTEND;TZID=America/Chicago:20250908T203000
DTSTAMP:20260425T111719
CREATED:20250803T105515Z
LAST-MODIFIED:20250803T105515Z
UID:1878-1757356200-1757363400@www.biofieldtuningtn.com
SUMMARY:Reiki Share
DESCRIPTION:Come learn the basics of giving and receiving Reiki.\nWe’ll start with a sound meditation and then learn about energy healing and chakra balancing through Reiki\, the Universal Life Force Energy. You will experience both giving & receiving Reiki in this fun\, relaxed Reiki Share. \nWe will learn to: \n• Feel the human energy field\n• Diagnose & balance the chakras\n• Access & use Reiki energy to heal \nAll are welcome from experienced practitioners to those new to Reiki and energy healing. \nCome meet new friends or bring one with you! \nDonation basis \nPlease call or text 615.474.3678 to confirm your spot!
URL:https://www.biofieldtuningtn.com/event/reiki-share-101/
LOCATION:Franklin Reiki & Sound Healing\, 413 N Cardinal Ct\, Franklin\, TN\, 37067\, United States
CATEGORIES:Reiki
ATTACH;FMTTYPE=image/jpeg:https://www.biofieldtuningtn.com/wp-content/uploads/2021/03/Reiki-hand.jpg
ORGANIZER;CN="Robin Barnes":MAILTO:robinbarnes2@gmail.com
END:VEVENT
BEGIN:VEVENT
DTSTART;TZID=America/Chicago:20250909T180000
DTEND;TZID=America/Chicago:20250909T190000
DTSTAMP:20260425T111719
CREATED:20250905T192610Z
LAST-MODIFIED:20250905T192610Z
UID:1888-1757440800-1757444400@www.biofieldtuningtn.com
SUMMARY:Sound Bath @B2 Wellness
DESCRIPTION:Healing vibrations coming your way! \nLeave the world behind and join Robin Barnes for a unique combination of sound therapy and vibrational energy that bathes and massages the body in sustained waves of sound & frequencies bringing the body’s energetic balance into equilibrium. Sound affects the body at a cellular level stimulating relaxation & coherence. As the sounds of singing bowls\, frame drums\, native flutes\, gongs\, vocal over-toning and other sacred instruments wash over you\, you’re invited to move into a deep\, relaxed\, meditative state. There the cellular vibrations can unlock unhealthy\, stuck emotional tension held within our cellular memory\, boost your immune system & cultivate a heightened awareness of your inner world and intuition. \nReiki Master Lauren DeYoe will deliver Reiki energy during the sound bath for additional energy balancing & relaxation. \nPlease wear comfortable clothing and bring a yoga mat to lay down on. \nTickets $39.00 \nReserve your spot HERE!
URL:https://www.biofieldtuningtn.com/event/sound-bath-b2-wellness-6/
LOCATION:B2 Wellness Center\, 5121 Maryland Way Suite 203\, Brentwood\, TN\, 37037\, United States
CATEGORIES:Sound Immersions
ATTACH;FMTTYPE=image/jpeg:https://www.biofieldtuningtn.com/wp-content/uploads/2025/02/29-803A5808-Edit-1000x830-1.jpg
ORGANIZER;CN="Robin Barnes":MAILTO:robinbarnes2@gmail.com
END:VEVENT
BEGIN:VEVENT
DTSTART;TZID=America/Chicago:20250922T183000
DTEND;TZID=America/Chicago:20250922T203000
DTSTAMP:20260425T111719
CREATED:20250803T105557Z
LAST-MODIFIED:20250803T105557Z
UID:1879-1758565800-1758573000@www.biofieldtuningtn.com
SUMMARY:Reiki Share
DESCRIPTION:Come learn the basics of giving and receiving Reiki.\nWe’ll start with a sound meditation and then learn about energy healing and chakra balancing through Reiki\, the Universal Life Force Energy. You will experience both giving & receiving Reiki in this fun\, relaxed Reiki Share. \nWe will learn to: \n• Feel the human energy field\n• Diagnose & balance the chakras\n• Access & use Reiki energy to heal \nAll are welcome from experienced practitioners to those new to Reiki and energy healing. \nCome meet new friends or bring one with you! \nDonation basis \nPlease call or text 615.474.3678 to confirm your spot!
URL:https://www.biofieldtuningtn.com/event/reiki-share-102/
LOCATION:Franklin Reiki & Sound Healing\, 413 N Cardinal Ct\, Franklin\, TN\, 37067\, United States
CATEGORIES:Reiki
ATTACH;FMTTYPE=image/jpeg:https://www.biofieldtuningtn.com/wp-content/uploads/2021/03/Reiki-hand.jpg
ORGANIZER;CN="Robin Barnes":MAILTO:robinbarnes2@gmail.com
END:VEVENT
BEGIN:VEVENT
DTSTART;TZID=America/Chicago:20250927T183000
DTEND;TZID=America/Chicago:20250927T193000
DTSTAMP:20260425T111719
CREATED:20250917T211226Z
LAST-MODIFIED:20250917T211226Z
UID:1894-1758997800-1759001400@www.biofieldtuningtn.com
SUMMARY:Sound Bath @The Hot Room
DESCRIPTION:Leave the world behind and join Robin Barnes for a\nunique combination of sound therapy and vibrational energy that\nbathes and massages the body in sustained waves of sound & frequencies\nbringing the body’s energetic balance into equilibrium. Sound\naffects the body at a cellular level and stimulates us to vibrate at a\nhigher frequency. As the sounds of singing bowls\, frame drums\,\nnative flutes\, gongs\, vocal over-toning and other sacred instruments\nwash over you\, it invites you to move into a deep meditative state.\nThere the cellular vibrations can unlock unhealthy\, stuck emotional\ntension held within our cellular memory\, boost your immune system &\ncultivate a heightened awareness of your inner world and intuition. \nPlease wear comfortable clothing and bring a yoga mat to lay down on. \nTickets $38.00 for non-members of The Hot Room \nReserve your spot HERE!
URL:https://www.biofieldtuningtn.com/event/sound-bath-the-hot-room-14/
LOCATION:The Hot Room Yoga & Wellness Center\, 93 Seaboard Lane\, Brentwood\, TN\, 37027\, United States
CATEGORIES:Sound Immersions
ATTACH;FMTTYPE=image/jpeg:https://www.biofieldtuningtn.com/wp-content/uploads/2022/11/Bowls-scaled.jpg
ORGANIZER;CN="Robin Barnes":MAILTO:robinbarnes2@gmail.com
END:VEVENT
BEGIN:VEVENT
DTSTART;TZID=America/Chicago:20250929T183000
DTEND;TZID=America/Chicago:20250929T203000
DTSTAMP:20260425T111719
CREATED:20250803T105624Z
LAST-MODIFIED:20250803T105624Z
UID:1880-1759170600-1759177800@www.biofieldtuningtn.com
SUMMARY:Reiki Share
DESCRIPTION:Come learn the basics of giving and receiving Reiki.\nWe’ll start with a sound meditation and then learn about energy healing and chakra balancing through Reiki\, the Universal Life Force Energy. You will experience both giving & receiving Reiki in this fun\, relaxed Reiki Share. \nWe will learn to: \n• Feel the human energy field\n• Diagnose & balance the chakras\n• Access & use Reiki energy to heal \nAll are welcome from experienced practitioners to those new to Reiki and energy healing. \nCome meet new friends or bring one with you! \nDonation basis \nPlease call or text 615.474.3678 to confirm your spot!
URL:https://www.biofieldtuningtn.com/event/reiki-share-103/
LOCATION:Franklin Reiki & Sound Healing\, 413 N Cardinal Ct\, Franklin\, TN\, 37067\, United States
CATEGORIES:Reiki
ATTACH;FMTTYPE=image/jpeg:https://www.biofieldtuningtn.com/wp-content/uploads/2021/03/Reiki-hand.jpg
ORGANIZER;CN="Robin Barnes":MAILTO:robinbarnes2@gmail.com
END:VEVENT
END:VCALENDAR