BEGIN:VCALENDAR
VERSION:2.0
PRODID:-//Biofield Tuning - ECPv6.15.20//NONSGML v1.0//EN
CALSCALE:GREGORIAN
METHOD:PUBLISH
X-ORIGINAL-URL:https://www.biofieldtuningtn.com
X-WR-CALDESC:Events for Biofield Tuning
REFRESH-INTERVAL;VALUE=DURATION:PT1H
X-Robots-Tag:noindex
X-PUBLISHED-TTL:PT1H
BEGIN:VTIMEZONE
TZID:America/Chicago
BEGIN:DAYLIGHT
TZOFFSETFROM:-0600
TZOFFSETTO:-0500
TZNAME:CDT
DTSTART:20240310T080000
END:DAYLIGHT
BEGIN:STANDARD
TZOFFSETFROM:-0500
TZOFFSETTO:-0600
TZNAME:CST
DTSTART:20241103T070000
END:STANDARD
BEGIN:DAYLIGHT
TZOFFSETFROM:-0600
TZOFFSETTO:-0500
TZNAME:CDT
DTSTART:20250309T080000
END:DAYLIGHT
BEGIN:STANDARD
TZOFFSETFROM:-0500
TZOFFSETTO:-0600
TZNAME:CST
DTSTART:20251102T070000
END:STANDARD
BEGIN:DAYLIGHT
TZOFFSETFROM:-0600
TZOFFSETTO:-0500
TZNAME:CDT
DTSTART:20260308T080000
END:DAYLIGHT
BEGIN:STANDARD
TZOFFSETFROM:-0500
TZOFFSETTO:-0600
TZNAME:CST
DTSTART:20261101T070000
END:STANDARD
END:VTIMEZONE
BEGIN:VEVENT
DTSTART;TZID=America/Chicago:20251005T150000
DTEND;TZID=America/Chicago:20251005T160000
DTSTAMP:20260425T063624
CREATED:20250905T191656Z
LAST-MODIFIED:20250917T203718Z
UID:1887-1759676400-1759680000@www.biofieldtuningtn.com
SUMMARY:Sound Bath @Ground Floor Yoga & Wellness Center
DESCRIPTION:We’re switching things up at Ground Floor! Come join us for our first Sunday offering. 🙂 \nLeave the world behind and join Robin Barnes for a unique combination of sound therapy and vibrational energy that bathes and massages the body in sustained waves of sound & frequencies bringing the body’s energetic balance into equilibrium. Sound affects the body at a cellular level stimulating relaxation & coherence. As the sounds of singing bowls\, frame drums\, native flutes\, gongs\, vocal over-toning and other sacred instruments wash over you\, you’re invited to move into a deep\, relaxed\, meditative state. There the cellular vibrations can unlock unhealthy\, stuck emotional tension held within our cellular memory\, boost your immune system & cultivate a heightened awareness of your inner world and intuition. \nReiki practitioner Lauren DeYoe will deliver Reiki energy during the sound bath for additional energy balancing & relaxation. \nPlease wear comfortable clothing and bring a yoga mat to lay down on. \nTickets $49.00 \nReserve your spot HERE!
URL:https://www.biofieldtuningtn.com/event/sound-bath-ground-floor-yoga-wellness-center-10/
LOCATION:Ground Floor Yoga & Wellness Center\, 230 Franklin Rd\, #8F\, Franklin\, 37064\, United States
CATEGORIES:Sound Immersions
ATTACH;FMTTYPE=image/jpeg:https://www.biofieldtuningtn.com/wp-content/uploads/2025/02/29-803A5808-Edit-1000x830-1.jpg
ORGANIZER;CN="Robin Barnes":MAILTO:robinbarnes2@gmail.com
END:VEVENT
BEGIN:VEVENT
DTSTART;TZID=America/Chicago:20251006T183000
DTEND;TZID=America/Chicago:20251006T203000
DTSTAMP:20260425T063624
CREATED:20250917T211658Z
LAST-MODIFIED:20250917T211658Z
UID:1897-1759775400-1759782600@www.biofieldtuningtn.com
SUMMARY:Reiki Share
DESCRIPTION:Come learn the basics of giving and receiving Reiki.\nWe’ll start with a sound meditation and then learn about energy healing and chakra balancing through Reiki\, the Universal Life Force Energy. You will experience both giving & receiving Reiki in this fun\, relaxed Reiki Share. \nWe will learn to: \n• Feel the human energy field\n• Diagnose & balance the chakras\n• Access & use Reiki energy to heal \nAll are welcome from experienced practitioners to those new to Reiki and energy healing. \nCome meet new friends or bring one with you! \nDonation basis \nPlease call or text 615.474.3678 to confirm your spot!
URL:https://www.biofieldtuningtn.com/event/reiki-share-98/
LOCATION:Franklin Reiki & Sound Healing\, 413 N Cardinal Ct\, Franklin\, TN\, 37067\, United States
CATEGORIES:Reiki
ATTACH;FMTTYPE=image/jpeg:https://www.biofieldtuningtn.com/wp-content/uploads/2021/03/Reiki-hand.jpg
ORGANIZER;CN="Robin Barnes":MAILTO:robinbarnes2@gmail.com
END:VEVENT
BEGIN:VEVENT
DTSTART;TZID=America/Chicago:20251013T183000
DTEND;TZID=America/Chicago:20251013T203000
DTSTAMP:20260425T063624
CREATED:20250917T211727Z
LAST-MODIFIED:20250917T211727Z
UID:1898-1760380200-1760387400@www.biofieldtuningtn.com
SUMMARY:Reiki Share
DESCRIPTION:Come learn the basics of giving and receiving Reiki.\nWe’ll start with a sound meditation and then learn about energy healing and chakra balancing through Reiki\, the Universal Life Force Energy. You will experience both giving & receiving Reiki in this fun\, relaxed Reiki Share. \nWe will learn to: \n• Feel the human energy field\n• Diagnose & balance the chakras\n• Access & use Reiki energy to heal \nAll are welcome from experienced practitioners to those new to Reiki and energy healing. \nCome meet new friends or bring one with you! \nDonation basis \nPlease call or text 615.474.3678 to confirm your spot!
URL:https://www.biofieldtuningtn.com/event/reiki-share-104/
LOCATION:Franklin Reiki & Sound Healing\, 413 N Cardinal Ct\, Franklin\, TN\, 37067\, United States
CATEGORIES:Reiki
ATTACH;FMTTYPE=image/jpeg:https://www.biofieldtuningtn.com/wp-content/uploads/2021/03/Reiki-hand.jpg
ORGANIZER;CN="Robin Barnes":MAILTO:robinbarnes2@gmail.com
END:VEVENT
BEGIN:VEVENT
DTSTART;TZID=America/Chicago:20251014T180000
DTEND;TZID=America/Chicago:20251014T190000
DTSTAMP:20260425T063624
CREATED:20250917T211525Z
LAST-MODIFIED:20250917T211525Z
UID:1895-1760464800-1760468400@www.biofieldtuningtn.com
SUMMARY:Sound Bath @B2 Wellness
DESCRIPTION:Healing vibrations coming your way! \nLeave the world behind and join Robin Barnes for a unique combination of sound therapy and vibrational energy that bathes and massages the body in sustained waves of sound & frequencies bringing the body’s energetic balance into equilibrium. Sound affects the body at a cellular level stimulating relaxation & coherence. As the sounds of singing bowls\, frame drums\, native flutes\, gongs\, vocal over-toning and other sacred instruments wash over you\, you’re invited to move into a deep\, relaxed\, meditative state. There the cellular vibrations can unlock unhealthy\, stuck emotional tension held within our cellular memory\, boost your immune system & cultivate a heightened awareness of your inner world and intuition. \nReiki Master Lauren DeYoe will deliver Reiki energy during the sound bath for additional energy balancing & relaxation. \nPlease wear comfortable clothing and bring a yoga mat to lay down on. \nTickets $39.00 \nReserve your spot HERE!
URL:https://www.biofieldtuningtn.com/event/sound-bath-b2-wellness-7/
LOCATION:B2 Wellness Center\, 5121 Maryland Way Suite 203\, Brentwood\, TN\, 37037\, United States
CATEGORIES:Sound Immersions
ATTACH;FMTTYPE=image/jpeg:https://www.biofieldtuningtn.com/wp-content/uploads/2025/02/29-803A5808-Edit-1000x830-1.jpg
ORGANIZER;CN="Robin Barnes":MAILTO:robinbarnes2@gmail.com
END:VEVENT
END:VCALENDAR