BEGIN:VCALENDAR
VERSION:2.0
PRODID:-//Biofield Tuning - ECPv6.15.20//NONSGML v1.0//EN
CALSCALE:GREGORIAN
METHOD:PUBLISH
X-WR-CALNAME:Biofield Tuning
X-ORIGINAL-URL:https://www.biofieldtuningtn.com
X-WR-CALDESC:Events for Biofield Tuning
REFRESH-INTERVAL;VALUE=DURATION:PT1H
X-Robots-Tag:noindex
X-PUBLISHED-TTL:PT1H
BEGIN:VTIMEZONE
TZID:America/Chicago
BEGIN:DAYLIGHT
TZOFFSETFROM:-0600
TZOFFSETTO:-0500
TZNAME:CDT
DTSTART:20240310T080000
END:DAYLIGHT
BEGIN:STANDARD
TZOFFSETFROM:-0500
TZOFFSETTO:-0600
TZNAME:CST
DTSTART:20241103T070000
END:STANDARD
BEGIN:DAYLIGHT
TZOFFSETFROM:-0600
TZOFFSETTO:-0500
TZNAME:CDT
DTSTART:20250309T080000
END:DAYLIGHT
BEGIN:STANDARD
TZOFFSETFROM:-0500
TZOFFSETTO:-0600
TZNAME:CST
DTSTART:20251102T070000
END:STANDARD
BEGIN:DAYLIGHT
TZOFFSETFROM:-0600
TZOFFSETTO:-0500
TZNAME:CDT
DTSTART:20260308T080000
END:DAYLIGHT
BEGIN:STANDARD
TZOFFSETFROM:-0500
TZOFFSETTO:-0600
TZNAME:CST
DTSTART:20261101T070000
END:STANDARD
END:VTIMEZONE
BEGIN:VEVENT
DTSTART;TZID=America/Chicago:20251103T183000
DTEND;TZID=America/Chicago:20251103T203000
DTSTAMP:20260425T094003
CREATED:20250917T211804Z
LAST-MODIFIED:20250917T211804Z
UID:1899-1762194600-1762201800@www.biofieldtuningtn.com
SUMMARY:Reiki Share
DESCRIPTION:Come learn the basics of giving and receiving Reiki.\nWe’ll start with a sound meditation and then learn about energy healing and chakra balancing through Reiki\, the Universal Life Force Energy. You will experience both giving & receiving Reiki in this fun\, relaxed Reiki Share. \nWe will learn to: \n• Feel the human energy field\n• Diagnose & balance the chakras\n• Access & use Reiki energy to heal \nAll are welcome from experienced practitioners to those new to Reiki and energy healing. \nCome meet new friends or bring one with you! \nDonation basis \nPlease call or text 615.474.3678 to confirm your spot!
URL:https://www.biofieldtuningtn.com/event/reiki-share-105/
LOCATION:Franklin Reiki & Sound Healing\, 413 N Cardinal Ct\, Franklin\, TN\, 37067\, United States
CATEGORIES:Reiki
ATTACH;FMTTYPE=image/jpeg:https://www.biofieldtuningtn.com/wp-content/uploads/2021/03/Reiki-hand.jpg
ORGANIZER;CN="Robin Barnes":MAILTO:robinbarnes2@gmail.com
END:VEVENT
BEGIN:VEVENT
DTSTART;TZID=America/Chicago:20251109T150000
DTEND;TZID=America/Chicago:20251109T160000
DTSTAMP:20260425T094003
CREATED:20251016T165701Z
LAST-MODIFIED:20251016T165701Z
UID:1919-1762700400-1762704000@www.biofieldtuningtn.com
SUMMARY:Sound Bath @Ground Floor Yoga & Wellness Center
DESCRIPTION:We’re switching things up at Ground Floor! Come join us for our first Sunday offering. 🙂 \nLeave the world behind and join Robin Barnes for a unique combination of sound therapy and vibrational energy that bathes and massages the body in sustained waves of sound & frequencies bringing the body’s energetic balance into equilibrium. Sound affects the body at a cellular level stimulating relaxation & coherence. As the sounds of singing bowls\, frame drums\, native flutes\, gongs\, vocal over-toning and other sacred instruments wash over you\, you’re invited to move into a deep\, relaxed\, meditative state. There the cellular vibrations can unlock unhealthy\, stuck emotional tension held within our cellular memory\, boost your immune system & cultivate a heightened awareness of your inner world and intuition. \nReiki practitioner Lauren DeYoe will deliver Reiki energy during the sound bath for additional energy balancing & relaxation. \nPlease wear comfortable clothing and bring a yoga mat to lay down on. \nTickets $49.00 \nReserve your spot HERE!
URL:https://www.biofieldtuningtn.com/event/sound-bath-ground-floor-yoga-wellness-center-11/
LOCATION:Ground Floor Yoga & Wellness Center\, 230 Franklin Rd\, #8F\, Franklin\, 37064\, United States
CATEGORIES:Sound Immersions
ATTACH;FMTTYPE=image/jpeg:https://www.biofieldtuningtn.com/wp-content/uploads/2025/02/29-803A5808-Edit-1000x830-1.jpg
ORGANIZER;CN="Robin Barnes":MAILTO:robinbarnes2@gmail.com
END:VEVENT
BEGIN:VEVENT
DTSTART;TZID=America/Chicago:20251110T183000
DTEND;TZID=America/Chicago:20251110T203000
DTSTAMP:20260425T094003
CREATED:20250917T211826Z
LAST-MODIFIED:20250917T211826Z
UID:1900-1762799400-1762806600@www.biofieldtuningtn.com
SUMMARY:Reiki Share
DESCRIPTION:Come learn the basics of giving and receiving Reiki.\nWe’ll start with a sound meditation and then learn about energy healing and chakra balancing through Reiki\, the Universal Life Force Energy. You will experience both giving & receiving Reiki in this fun\, relaxed Reiki Share. \nWe will learn to: \n• Feel the human energy field\n• Diagnose & balance the chakras\n• Access & use Reiki energy to heal \nAll are welcome from experienced practitioners to those new to Reiki and energy healing. \nCome meet new friends or bring one with you! \nDonation basis \nPlease call or text 615.474.3678 to confirm your spot!
URL:https://www.biofieldtuningtn.com/event/reiki-share-106/
LOCATION:Franklin Reiki & Sound Healing\, 413 N Cardinal Ct\, Franklin\, TN\, 37067\, United States
CATEGORIES:Reiki
ATTACH;FMTTYPE=image/jpeg:https://www.biofieldtuningtn.com/wp-content/uploads/2021/03/Reiki-hand.jpg
ORGANIZER;CN="Robin Barnes":MAILTO:robinbarnes2@gmail.com
END:VEVENT
BEGIN:VEVENT
DTSTART;TZID=America/Chicago:20251117T183000
DTEND;TZID=America/Chicago:20251117T203000
DTSTAMP:20260425T094003
CREATED:20250917T211852Z
LAST-MODIFIED:20250917T211852Z
UID:1901-1763404200-1763411400@www.biofieldtuningtn.com
SUMMARY:Reiki Share
DESCRIPTION:Come learn the basics of giving and receiving Reiki.\nWe’ll start with a sound meditation and then learn about energy healing and chakra balancing through Reiki\, the Universal Life Force Energy. You will experience both giving & receiving Reiki in this fun\, relaxed Reiki Share. \nWe will learn to: \n• Feel the human energy field\n• Diagnose & balance the chakras\n• Access & use Reiki energy to heal \nAll are welcome from experienced practitioners to those new to Reiki and energy healing. \nCome meet new friends or bring one with you! \nDonation basis \nPlease call or text 615.474.3678 to confirm your spot!
URL:https://www.biofieldtuningtn.com/event/reiki-share-107/
LOCATION:Franklin Reiki & Sound Healing\, 413 N Cardinal Ct\, Franklin\, TN\, 37067\, United States
CATEGORIES:Reiki
ATTACH;FMTTYPE=image/jpeg:https://www.biofieldtuningtn.com/wp-content/uploads/2021/03/Reiki-hand.jpg
ORGANIZER;CN="Robin Barnes":MAILTO:robinbarnes2@gmail.com
END:VEVENT
BEGIN:VEVENT
DTSTART;TZID=America/Chicago:20251122T183000
DTEND;TZID=America/Chicago:20251122T193000
DTSTAMP:20260425T094003
CREATED:20251119T184234Z
LAST-MODIFIED:20251119T184234Z
UID:1924-1763836200-1763839800@www.biofieldtuningtn.com
SUMMARY:Sound Bath @The Hot Room
DESCRIPTION:Leave the world behind and join Robin Barnes for a\nunique combination of sound therapy and vibrational energy that\nbathes and massages the body in sustained waves of sound & frequencies\nbringing the body’s energetic balance into equilibrium. Sound\naffects the body at a cellular level and stimulates us to vibrate at a\nhigher frequency. As the sounds of singing bowls\, frame drums\,\nnative flutes\, gongs\, vocal over-toning and other sacred instruments\nwash over you\, it invites you to move into a deep meditative state.\nThere the cellular vibrations can unlock unhealthy\, stuck emotional\ntension held within our cellular memory\, boost your immune system &\ncultivate a heightened awareness of your inner world and intuition. \nPlease wear comfortable clothing and bring a yoga mat to lay down on. \nTickets $38.00 for non-members of The Hot Room \nReserve your spot HERE!
URL:https://www.biofieldtuningtn.com/event/sound-bath-the-hot-room-15/
LOCATION:The Hot Room Yoga & Wellness Center\, 93 Seaboard Lane\, Brentwood\, TN\, 37027\, United States
CATEGORIES:Sound Immersions
ATTACH;FMTTYPE=image/jpeg:https://www.biofieldtuningtn.com/wp-content/uploads/2022/11/Bowls-scaled.jpg
ORGANIZER;CN="Robin Barnes":MAILTO:robinbarnes2@gmail.com
END:VEVENT
BEGIN:VEVENT
DTSTART;TZID=America/Chicago:20251124T183000
DTEND;TZID=America/Chicago:20251124T203000
DTSTAMP:20260425T094003
CREATED:20250917T211917Z
LAST-MODIFIED:20250917T211917Z
UID:1902-1764009000-1764016200@www.biofieldtuningtn.com
SUMMARY:Reiki Share
DESCRIPTION:Come learn the basics of giving and receiving Reiki.\nWe’ll start with a sound meditation and then learn about energy healing and chakra balancing through Reiki\, the Universal Life Force Energy. You will experience both giving & receiving Reiki in this fun\, relaxed Reiki Share. \nWe will learn to: \n• Feel the human energy field\n• Diagnose & balance the chakras\n• Access & use Reiki energy to heal \nAll are welcome from experienced practitioners to those new to Reiki and energy healing. \nCome meet new friends or bring one with you! \nDonation basis \nPlease call or text 615.474.3678 to confirm your spot!
URL:https://www.biofieldtuningtn.com/event/reiki-share-108/
LOCATION:Franklin Reiki & Sound Healing\, 413 N Cardinal Ct\, Franklin\, TN\, 37067\, United States
CATEGORIES:Reiki
ATTACH;FMTTYPE=image/jpeg:https://www.biofieldtuningtn.com/wp-content/uploads/2021/03/Reiki-hand.jpg
ORGANIZER;CN="Robin Barnes":MAILTO:robinbarnes2@gmail.com
END:VEVENT
BEGIN:VEVENT
DTSTART;TZID=America/Chicago:20251129T173000
DTEND;TZID=America/Chicago:20251129T183000
DTSTAMP:20260425T094003
CREATED:20251016T165201Z
LAST-MODIFIED:20251016T165319Z
UID:1918-1764437400-1764441000@www.biofieldtuningtn.com
SUMMARY:Sound Immersion @Cosmic Connections
DESCRIPTION:Escape the noise of daily life and immerse yourself in a transformative sound bath with Robin Barnes. Through a unique blend of sound therapy and vibrational energy\, you’ll be enveloped in sustained waves of frequencies that help restore balance and harmony within. Using sacred instruments such as singing bowls\, frame drums\, native flutes\, gongs\, and vocal over-toning\, Robin creates an immersive soundscape designed to guide you into a deep meditative state. As these powerful vibrations resonate through your body at a cellular level\, they help release stagnant emotional tension\, boost your immune system\, and awaken a deeper connection to your intuition. \nAllow yourself to be bathed in sound\, to reset\, recharge\, and realign—mind\, body\, and spirit. \nRobin will be joined by Reiki practitioner Lauren DeYoe who will deliver Reiki energy during the sound bath for additional energy balancing & relaxation. \nPlease wear comfortable clothing and bring a yoga mat and whatever else you might need for your comfort.\nTickets $39.00 \nReserve your spot HERE!
URL:https://www.biofieldtuningtn.com/event/sound-immersion-cosmic-connections-4/
LOCATION:Cosmic Connections\, 2117 8th Ave S\, Nashville\, TN\, 37204\, United States
CATEGORIES:Sound Immersions
ATTACH;FMTTYPE=image/jpeg:https://www.biofieldtuningtn.com/wp-content/uploads/2025/02/29-803A5808-Edit-1000x830-1.jpg
ORGANIZER;CN="Robin Barnes":MAILTO:robinbarnes2@gmail.com
END:VEVENT
END:VCALENDAR