BEGIN:VCALENDAR
VERSION:2.0
PRODID:-//Biofield Tuning - ECPv6.15.20//NONSGML v1.0//EN
CALSCALE:GREGORIAN
METHOD:PUBLISH
X-WR-CALNAME:Biofield Tuning
X-ORIGINAL-URL:https://www.biofieldtuningtn.com
X-WR-CALDESC:Events for Biofield Tuning
REFRESH-INTERVAL;VALUE=DURATION:PT1H
X-Robots-Tag:noindex
X-PUBLISHED-TTL:PT1H
BEGIN:VTIMEZONE
TZID:America/Chicago
BEGIN:DAYLIGHT
TZOFFSETFROM:-0600
TZOFFSETTO:-0500
TZNAME:CDT
DTSTART:20240310T080000
END:DAYLIGHT
BEGIN:STANDARD
TZOFFSETFROM:-0500
TZOFFSETTO:-0600
TZNAME:CST
DTSTART:20241103T070000
END:STANDARD
BEGIN:DAYLIGHT
TZOFFSETFROM:-0600
TZOFFSETTO:-0500
TZNAME:CDT
DTSTART:20250309T080000
END:DAYLIGHT
BEGIN:STANDARD
TZOFFSETFROM:-0500
TZOFFSETTO:-0600
TZNAME:CST
DTSTART:20251102T070000
END:STANDARD
BEGIN:DAYLIGHT
TZOFFSETFROM:-0600
TZOFFSETTO:-0500
TZNAME:CDT
DTSTART:20260308T080000
END:DAYLIGHT
BEGIN:STANDARD
TZOFFSETFROM:-0500
TZOFFSETTO:-0600
TZNAME:CST
DTSTART:20261101T070000
END:STANDARD
END:VTIMEZONE
BEGIN:VEVENT
DTSTART;TZID=America/Chicago:20251201T183000
DTEND;TZID=America/Chicago:20251201T203000
DTSTAMP:20260421T090614
CREATED:20250917T211946Z
LAST-MODIFIED:20250917T211946Z
UID:1903-1764613800-1764621000@www.biofieldtuningtn.com
SUMMARY:Reiki Share
DESCRIPTION:Come learn the basics of giving and receiving Reiki.\nWe’ll start with a sound meditation and then learn about energy healing and chakra balancing through Reiki\, the Universal Life Force Energy. You will experience both giving & receiving Reiki in this fun\, relaxed Reiki Share. \nWe will learn to: \n• Feel the human energy field\n• Diagnose & balance the chakras\n• Access & use Reiki energy to heal \nAll are welcome from experienced practitioners to those new to Reiki and energy healing. \nCome meet new friends or bring one with you! \nDonation basis \nPlease call or text 615.474.3678 to confirm your spot!
URL:https://www.biofieldtuningtn.com/event/reiki-share-109/
LOCATION:Franklin Reiki & Sound Healing\, 413 N Cardinal Ct\, Franklin\, TN\, 37067\, United States
CATEGORIES:Reiki
ATTACH;FMTTYPE=image/jpeg:https://www.biofieldtuningtn.com/wp-content/uploads/2021/03/Reiki-hand.jpg
ORGANIZER;CN="Robin Barnes":MAILTO:robinbarnes2@gmail.com
END:VEVENT
END:VCALENDAR